BEGIN:VCALENDAR
VERSION:2.0
PRODID:-//appserver-cca08db7-nginx-248429d8b3e04abcaaf595be385fc10c//NONSGM
 L kigkonsult.se iCalcreator 2.26.9//
CALSCALE:GREGORIAN
METHOD:PUBLISH
X-FROM-URL:https://608.cupe.ca
X-WR-TIMEZONE:America/Vancouver
BEGIN:VTIMEZONE
TZID:America/Vancouver
X-LIC-LOCATION:America/Vancouver
BEGIN:STANDARD
DTSTART:20251102T020000
TZOFFSETFROM:-0700
TZOFFSETTO:-0800
RDATE:20261101T020000
TZNAME:PST
END:STANDARD
BEGIN:DAYLIGHT
DTSTART:20260308T020000
TZOFFSETFROM:-0800
TZOFFSETTO:-0700
RDATE:20270314T020000
TZNAME:PDT
END:DAYLIGHT
END:VTIMEZONE
BEGIN:VEVENT
UID:ai1ec-1356@608.cupe.ca
DTSTAMP:20260425T093141Z
CATEGORIES:
CONTACT:
DTSTART;TZID=America/Vancouver:20250312T180000
DTEND;TZID=America/Vancouver:20250312T193000
RRULE:FREQ=MONTHLY;UNTIL=20250611T235959Z;BYDAY=2WE
SUMMARY:General Membership Meeting
URL:https://608.cupe.ca/event/general-membership-meeting-24/
X-COST-TYPE:free
END:VEVENT
BEGIN:VEVENT
UID:ai1ec-1357@608.cupe.ca
DTSTAMP:20260425T093141Z
CATEGORIES:
CONTACT:
DTSTART;TZID=America/Vancouver:20250402T170000
DTEND;TZID=America/Vancouver:20250402T183000
RRULE:FREQ=MONTHLY;UNTIL=20250604T235959Z;BYDAY=1WE
SUMMARY:City of Penticton Membership Meeting
URL:https://608.cupe.ca/event/city-of-penticton-membership-meeting-3/
X-COST-TYPE:free
END:VEVENT
BEGIN:VEVENT
UID:ai1ec-1365@608.cupe.ca
DTSTAMP:20260425T093141Z
CATEGORIES:
CONTACT:
DTSTART;TZID=America/Vancouver:20250903T170000
DTEND;TZID=America/Vancouver:20250903T180000
LOCATION:In Person (CUPE 608 Union Office) @ #101-416 Westminster Ave W
SUMMARY:COP Membership Meeting
URL:https://608.cupe.ca/event/cop-membership-meeting-18/
X-COST-TYPE:free
END:VEVENT
BEGIN:VEVENT
UID:ai1ec-1368@608.cupe.ca
DTSTAMP:20260425T093141Z
CATEGORIES:
CONTACT:
DTSTART;TZID=America/Vancouver:20250910T180000
DTEND;TZID=America/Vancouver:20250910T193000
LOCATION:In Person (CUPE 608 Union Office) @ #101-416 Westminster Ave W
SUMMARY:General Membership Meeting
URL:https://608.cupe.ca/event/general-membership-meeting-25/
X-COST-TYPE:free
END:VEVENT
BEGIN:VEVENT
UID:ai1ec-1366@608.cupe.ca
DTSTAMP:20260425T093141Z
CATEGORIES:
CONTACT:
DTSTART;TZID=America/Vancouver:20251001T170000
DTEND;TZID=America/Vancouver:20251001T180000
LOCATION:In Person (CUPE 608 Union Office) @ #101-416 Westminster Ave W
SUMMARY:COP Membership Meeting
URL:https://608.cupe.ca/event/cop-membership-meeting-19/
X-COST-TYPE:free
END:VEVENT
BEGIN:VEVENT
UID:ai1ec-1367@608.cupe.ca
DTSTAMP:20260425T093141Z
CATEGORIES:
CONTACT:
DTSTART;TZID=America/Vancouver:20251105T170000
DTEND;TZID=America/Vancouver:20251105T180000
LOCATION:In Person (CUPE 608 Union Office) @ #101-416 Westminster Ave W
SUMMARY:COP Membership Meeting
URL:https://608.cupe.ca/event/cop-membership-meeting-20/
X-COST-TYPE:free
END:VEVENT
BEGIN:VEVENT
UID:ai1ec-1392@608.cupe.ca
DTSTAMP:20260425T093141Z
CATEGORIES:
CONTACT:
DTSTART;TZID=America/Vancouver:20251203T170000
DTEND;TZID=America/Vancouver:20251203T180000
LOCATION:CUPE 608 Office @ 101-416 Westminster Ave W
SUMMARY:COP Membership Meeting
URL:https://608.cupe.ca/event/cop-membership-meeting-21/
X-COST-TYPE:free
END:VEVENT
BEGIN:VEVENT
UID:ai1ec-1393@608.cupe.ca
DTSTAMP:20260425T093141Z
CATEGORIES:
CONTACT:
DTSTART;TZID=America/Vancouver:20251210T180000
DTEND;TZID=America/Vancouver:20251210T190000
LOCATION:Online via Teams @ email: president@cupe608.com
SUMMARY:CUPE 608 General Membership Meeting
URL:https://608.cupe.ca/event/cupe-608-general-membership-meeting/
X-COST-TYPE:free
END:VEVENT
END:VCALENDAR
